BEGIN:VCALENDAR
VERSION:2.0
PRODID:-//Το Φεστιβάλ του Δήμου Αθηναίων - ECPv6.12.0.1//NONSGML v1.0//EN
CALSCALE:GREGORIAN
METHOD:PUBLISH
X-ORIGINAL-URL:https://cityfestival.thisisathens.org
X-WR-CALDESC:Events for Το Φεστιβάλ του Δήμου Αθηναίων
REFRESH-INTERVAL;VALUE=DURATION:PT1H
X-Robots-Tag:noindex
X-PUBLISHED-TTL:PT1H
BEGIN:VTIMEZONE
TZID:Europe/Athens
BEGIN:DAYLIGHT
TZOFFSETFROM:+0200
TZOFFSETTO:+0300
TZNAME:EEST
DTSTART:20250330T010000
END:DAYLIGHT
BEGIN:STANDARD
TZOFFSETFROM:+0300
TZOFFSETTO:+0200
TZNAME:EET
DTSTART:20251026T010000
END:STANDARD
END:VTIMEZONE
BEGIN:VEVENT
DTSTART;TZID=Europe/Athens:20250601T110000
DTEND;TZID=Europe/Athens:20250601T130000
DTSTAMP:20260420T052302
CREATED:20250422T083440Z
LAST-MODIFIED:20250527T132040Z
UID:10003554-1748775600-1748782800@cityfestival.thisisathens.org
SUMMARY:Fitness Sessions
DESCRIPTION:Ευκαιρία για άθληση μέσα στο καταπράσινο σκηνικό του Πάρκου Ελευθερίας. Καταξιωμένοι γυμναστές και τα επιτελεία τους παραδίδουν μαθήματα υγείας και ευεξίας.\n\nΣτα Fitness Sessions η άσκηση είναι διασκέδαση και όχι συναγωνισμός. Yoga\, πιλάτες και αεροβική γυμναστική προσαρμόζονται στις ικανότητες των συμμετεχόντων\, με στόχο να γίνουν τρόπος ζωής.\n\nΜην ξεχάσετε το στρωματάκι σας!
URL:https://cityfestival.thisisathens.org/event/fitness-sessions-4/
LOCATION:Πάρκο Ελευθερίας\, Πάρκο Ελευθερίας\, Αθήνα\, Αθήνα\, 115 21\, Greece
CATEGORIES:ΔΩΡΕΑΝ,ΥΠΑΙΘΡΙΑ ΔΡΑΣΗ,ΨΥΧΑΓΩΓΙΑ
ATTACH;FMTTYPE=image/png:https://cityfestival.thisisathens.org/wp-content/uploads/2025/03/IMG_0091-2048x1536-1.png
END:VEVENT
BEGIN:VEVENT
DTSTART;TZID=Europe/Athens:20250601T180000
DTEND;TZID=Europe/Athens:20250601T230000
DTSTAMP:20260420T052302
CREATED:20250404T142420Z
LAST-MODIFIED:20250531T080832Z
UID:10003441-1748800800-1748818800@cityfestival.thisisathens.org
SUMMARY:Φεστιβάλ Δήμου Αθηναίων 2025 Closing Party: Liva K\, Atsou & Le Croque
DESCRIPTION:Το farewell του Φεστιβάλ του Δήμου Αθηναίων ’25 και το ραντεβού για την επόμενη χρονιά\, δε θα μπορούσε παρά να είναι μέσα από μία μεγάλη και επιβλητική διοργάνωση. Το μεγαλύτερο street party\, όχι μόνο στην ιστορία του Φεστιβάλ\, αλλά και της ίδιας της Αθήνας.\n\nΈνα event που θα γίνει talk of the town. Ένα event που θα γεμίσει έναν από τους πιο κεντρικούς οδικούς άξονες της πόλης με χιλιάδες φίλους του Φεστιβάλ\, ένα επιβλητικό soundsystem\, εντυπωσιακό light show και ασταμάτητο χορό.\n\nΣτα decks\, ο Liva K\, από τους πιο φρέσκους\, αναγνωρίσιμους και δημοφιλείς Έλληνες DJs και παραγωγούς\, με συνεχή παρουσία σε Ελλάδα και εξωτερικό. Μαζί του\, οι Atsou και Le Croque — καλλιτέχνες της Madorasindahouse\, του ελληνικού label και δημιουργικού community που έχει κατακτήσει τη διεθνή afro house σκηνή.\n\nΌλη η Αθήνα θα είναι εκεί;. Εσύ;
URL:https://cityfestival.thisisathens.org/event/festival-dimou-athinaion-2025-closing-party/
LOCATION:Αθηνάς\, Αθηνάς\, Αθήνα\, Αθήνα\, 105 52\, Greece
CATEGORIES:DJ SET,ΔΩΡΕΑΝ,ΠΑΡΤΙ,ΥΠΑΙΘΡΙΑ ΔΡΑΣΗ,ΧΟΡΟΣ,ΨΥΧΑΓΩΓΙΑ
ATTACH;FMTTYPE=image/jpeg:https://cityfestival.thisisathens.org/wp-content/uploads/2025/04/Liva.jpg
END:VEVENT
BEGIN:VEVENT
DTSTART;TZID=Europe/Athens:20250601T203000
DTEND;TZID=Europe/Athens:20250601T220000
DTSTAMP:20260420T052302
CREATED:20250422T110205Z
LAST-MODIFIED:20250527T153609Z
UID:10003600-1748809800-1748815200@cityfestival.thisisathens.org
SUMMARY:Greek Cinema Nights - Στέλλα
DESCRIPTION:Φώτα\, κάμερα\, πάμε ΞΑΝΑ!\nΚαλοκαίρι στην Αθήνα σημαίνει θερινό σινεμά!\n\n4 ελληνικές ταινίες\n4 προβολές κάτω από τον ουρανό της Αθήνας\n\nΠΡΟΓΡΑΜΜΑ ΠΡΟΒΟΛΩΝ\n\nΔευτέρα 26/5 –  Buzzheart (110′) του Ντένη Ηλιάδη\nΜε τους: Γιώργο Λάντο\, Κωνσταντίνα Μεσσήνη\, Εβελίνα Παπούλια\, Κλαούντιο Κάγια\nΌταν ο Αργύρης γνωρίζει τη Μαίρη σε ένα «στούντιο μασάζ»\, της ζητά ραντεβού και εκείνη του προτείνει να τη συνοδεύσει σε μια τριήμερη εκδρομή στο απομονωμένο εξοχικό των γονιών της\, όπου τον περιμένουν μια σειρά από εκπλήξεις.\n\nΤρίτη 27/5 – Το καλοκαίρι της Κάρμεν (106′) του Ζαχαρία Μαυροειδή\nΜε τους: Ανδρέα Λαμπρόπουλο\, Ρουμπίνη Βασιλακοπούλου\, Γιώργο Τσιαντούλα\nΑπολαμβάνοντας ένα ολοήμερο μπάνιο\, ο Δημοσθένης βοηθά το φίλο του Νικήτα στη συγγραφή ενός σεναρίου βασισμένου στα προσωπικά τους βιώματα.\n\nΚυριακή 1/6 – Στέλλα (90′) του Μιχάλη Κακογιάννη \nΜε τους: Μελίνα Μερκούρη\, Αλέκο Αλεξανδράκη\, Γιώργο Φούντα\, Χριστίνα Καλογερίκου\, Διονύση Παπαγιαννόπουλο\, Βούλα Ζαμπουλάκη\, Σοφία Βέμπο\nΗ θρυλική ταινία της Μελίνας Μερκούρη που προβλήθηκε με επιτυχία στο Φεστιβάλ Καννών το 1955 και απέσπασε το βραβείο καλύτερης ξένης ταινίας. Μια λαική τραγουδίστρια αν και ερωτευμένη με έναν ποδοσφαιριστή\, αρνείται να τον παντρευτεί για να διατηρήσει την ατομικοτητά της.\n\nΚυριακή 1/6 – Νοτιάς (99′) του Τάσου Μπουλμέτη\nΜε τους: Γιάννη Νιάρρο\, Μαρία Καλλιμάνη\, Θέμη Πάνου\, Ταξιάρχη Χάνο\, Μελισσάνθη Μαχούτ\nΑπό τη μέρα που εμφανίζονται στον Σταύρο οι πρώτες ερωτικές ανησυχίες\, φουντώνει και η επιθυμία του να λέει ιστορίες με δικό του\, ανατρεπτικό τρόπο. Από την εφηβεία προς την ενηλικίωση\, η Ελλάδα του ’60 και του ’70 θα τον τροφοδοτήσει με αρχαίους και σύγχρονους μύθους\, φανταστικά ταξίδια και όμορφες γυναίκες.\n\nΟι ταινίες προβάλλονται με υπότιτλους στα αγγλικά.
URL:https://cityfestival.thisisathens.org/event/greek-cinema-nights-3/
LOCATION:Πάρκο Ελευθερίας\, Πάρκο Ελευθερίας\, Αθήνα\, Αθήνα\, 115 21\, Greece
CATEGORIES:ΔΩΡΕΑΝ,ΣΙΝΕΜΑ,ΨΥΧΑΓΩΓΙΑ
ATTACH;FMTTYPE=image/jpeg:https://cityfestival.thisisathens.org/wp-content/uploads/2023/02/20220526-OSF-AthensCityFestival-CinemaNights-0030.jpg
END:VEVENT
BEGIN:VEVENT
DTSTART;TZID=Europe/Athens:20250601T223000
DTEND;TZID=Europe/Athens:20250601T233000
DTSTAMP:20260420T052302
CREATED:20250422T110234Z
LAST-MODIFIED:20250527T153034Z
UID:10003601-1748817000-1748820600@cityfestival.thisisathens.org
SUMMARY:Greek Cinema Nights - Νοτιάς
DESCRIPTION:Φώτα\, κάμερα\, πάμε ΞΑΝΑ!\nΚαλοκαίρι στην Αθήνα σημαίνει θερινό σινεμά!\n\n4 ελληνικές ταινίες\n4 προβολές κάτω από τον ουρανό της Αθήνας\n\nΠΡΟΓΡΑΜΜΑ ΠΡΟΒΟΛΩΝ\n\nΔευτέρα 26/5 –  Buzzheart (110′) του Ντένη Ηλιάδη\nΜε τους: Γιώργο Λάντο\, Κωνσταντίνα Μεσσήνη\, Εβελίνα Παπούλια\, Κλαούντιο Κάγια\nΌταν ο Αργύρης γνωρίζει τη Μαίρη σε ένα «στούντιο μασάζ»\, της ζητά ραντεβού και εκείνη του προτείνει να τη συνοδεύσει σε μια τριήμερη εκδρομή στο απομονωμένο εξοχικό των γονιών της\, όπου τον περιμένουν μια σειρά από εκπλήξεις.\n\nΤρίτη 27/5 – Το καλοκαίρι της Κάρμεν (106′) του Ζαχαρία Μαυροειδή\nΜε τους: Ανδρέα Λαμπρόπουλο\, Ρουμπίνη Βασιλακοπούλου\, Γιώργο Τσιαντούλα\nΑπολαμβάνοντας ένα ολοήμερο μπάνιο\, ο Δημοσθένης βοηθά το φίλο του Νικήτα στη συγγραφή ενός σεναρίου βασισμένου στα προσωπικά τους βιώματα.\n\nΚυριακή 1/6 – Στέλλα (90′) του Μιχάλη Κακογιάννη \nΜε τους: Μελίνα Μερκούρη\, Αλέκο Αλεξανδράκη\, Γιώργο Φούντα\, Χριστίνα Καλογερίκου\, Διονύση Παπαγιαννόπουλο\, Βούλα Ζαμπουλάκη\, Σοφία Βέμπο\nΗ θρυλική ταινία της Μελίνας Μερκούρη που προβλήθηκε με επιτυχία στο Φεστιβάλ Καννών το 1955 και απέσπασε το βραβείο καλύτερης ξένης ταινίας. Μια λαική τραγουδίστρια αν και ερωτευμένη με έναν ποδοσφαιριστή\, αρνείται να τον παντρευτεί για να διατηρήσει την ατομικοτητά της.\n\nΚυριακή 1/6 – Νοτιάς (99′) του Τάσου Μπουλμέτη\nΜε τους: Γιάννη Νιάρρο\, Μαρία Καλλιμάνη\, Θέμη Πάνου\, Ταξιάρχη Χάνο\, Μελισσάνθη Μαχούτ\nΑπό τη μέρα που εμφανίζονται στον Σταύρο οι πρώτες ερωτικές ανησυχίες\, φουντώνει και η επιθυμία του να λέει ιστορίες με δικό του\, ανατρεπτικό τρόπο. Από την εφηβεία προς την ενηλικίωση\, η Ελλάδα του ’60 και του ’70 θα τον τροφοδοτήσει με αρχαίους και σύγχρονους μύθους\, φανταστικά ταξίδια και όμορφες γυναίκες.\n\nΟι ταινίες προβάλλονται με υπότιτλους στα αγγλικά.
URL:https://cityfestival.thisisathens.org/event/greek-cinema-nights-4/
LOCATION:Πάρκο Ελευθερίας\, Πάρκο Ελευθερίας\, Αθήνα\, Αθήνα\, 115 21\, Greece
CATEGORIES:ΔΩΡΕΑΝ,ΣΙΝΕΜΑ,ΨΥΧΑΓΩΓΙΑ
ATTACH;FMTTYPE=image/jpeg:https://cityfestival.thisisathens.org/wp-content/uploads/2023/02/20220526-OSF-AthensCityFestival-CinemaNights-0030.jpg
END:VEVENT
BEGIN:VEVENT
DTSTART;TZID=Europe/Athens:20250629T190000
DTEND;TZID=Europe/Athens:20250629T203000
DTSTAMP:20260420T052302
CREATED:20250618T112911Z
LAST-MODIFIED:20250626T093350Z
UID:10004007-1751223600-1751229000@cityfestival.thisisathens.org
SUMMARY:Παγκόσμια Ημέρα Yoga στο Πάρκο Ελευθερίας
DESCRIPTION:Το Φεστιβάλ του Δήμου Αθηναίων και το Arka Yoga Center σας προσκαλούν να γιορτάσουμε μαζί την Παγκόσμια Ημέρα Yoga\, σε μια εκδήλωση αφιερωμένη στην ευεξία\, την αρμονία και την εσωτερική γαλήνη.\n\nΤην Κυριακή\, 29 Ιουνίου\, μετατρέπουμε το καταπράσινο Πάρκο Ελευθερίας σε έναν υπαίθριο χώρο άσκησης και χαλάρωσης. Από τις 19:00 έως τις 20:30\, ελάτε να ενώσουμε την αναπνοή και την κίνησή μας σε ένα δωρεάν μάθημα yoga κάτω από τον απογευματινό ουρανό της πόλης.\n\nΜαζί μας θα είναι οι καταξιωμένοι δάσκαλοι yoga\, Κωνσταντίνα Παπαδοπούλου και Παντελής Νικολαΐδης\, οι οποίοι θα μας καθοδηγήσουν σε ένα ταξίδι εξερεύνησης του σώματος και του νου\, κατάλληλο για όλα τα επίπεδα ασκούμενων.\n\nΛίγα λόγια για τους γυμναστές:\n\nΟ Παντελής Νικολαΐδης είναι πιστοποιημένος δάσκαλος από τη Yoga Alliance (E-RYT 200h & E-RYT 500h)\, έχοντας ολοκληρώσει την εκπαίδευσή του στο Rishikesh της Ινδίας και στην Ελλάδα. Έχει εκπαιδευτεί στη διαδικασία Parambara ως θεραπευτής ρέικι 2ου βαθμού από τον δάσκαλο Babajay (Jay Moore) στο Rishikesh. Είναι πιστοποιημένος από το Studio One στο Pilates mat work και έχει παρακολουθήσει σεμινάρια για το τραύμα και την αποκατάστασή του με την καθηγήτρια Κατερίνα Λιάνου\, καθώς και σεμινάριο Life Coaching από τον Μηνά Ταλιάκη. Είναι επίσημος καθηγητής του εκπαιδευτικού προγράμματος του Studio One στη Yoga και το Personal Training\, ενώ πραγματοποιεί εργαστήρια (workshops) και εκπαιδευτικά προγράμματα στην Ελλάδα και το εξωτερικό.\n\nΗ Κωνσταντίνα Παπαδοπούλου είναι πιστοποιημένη καθηγήτρια από τη Yoga Alliance RYT 500h και personal trainer μετά από εκπαίδευση σε ελληνικό εκπαιδευτικό φορέα. Έχει εκπαιδευτεί στο σύστημα της Ashtanga yoga Primary & Intermediate series με τη Χριστίνα Καρυτινού-Ireland. Είναι official yoga coach για την ηλεκτρονική πλατφόρμα “The Coach”. Παραδίδει\, επίσης\, yoga workshops. Έχει παρακολουθήσει σεμινάρια Κινησιολογίας και Τραυματιολογίας. Είναι κάτοχος διπλώματος πρώτων βοηθειών και ναυαγοσωστικής πισίνας καθώς επίσης και Aqua fitness. Έχει εκπαιδευτεί στην Ελλάδα στην τεχνική του Thai massage.\n\nΗ συμμετοχή είναι ελεύθερη.\n\nΑπλώστε το στρωματάκι σας και ελάτε να μοιραστούμε την ενέργεια αυτής της ξεχωριστής ημέρας!\n\nΗ δράση πραγματοποιείται σε συνεργασία με την Cosmos Sport.\n\nΣας περιμένουμε!
URL:https://cityfestival.thisisathens.org/event/pagkosmia-mera-yoga-parko-eleftherias/
LOCATION:Πάρκο Ελευθερίας\, Πάρκο Ελευθερίας\, Αθήνα\, Αθήνα\, 115 21\, Greece
CATEGORIES:ΔΩΡΕΑΝ,ΥΠΑΙΘΡΙΑ ΔΡΑΣΗ
ATTACH;FMTTYPE=image/png:https://cityfestival.thisisathens.org/wp-content/uploads/2025/06/Yoga-960x590-1.png
END:VEVENT
END:VCALENDAR