BEGIN:VCALENDAR
VERSION:2.0
PRODID:-//Το Φεστιβάλ του Δήμου Αθηναίων - ECPv6.12.0.1//NONSGML v1.0//EN
CALSCALE:GREGORIAN
METHOD:PUBLISH
X-ORIGINAL-URL:https://cityfestival.thisisathens.org
X-WR-CALDESC:Events for Το Φεστιβάλ του Δήμου Αθηναίων
REFRESH-INTERVAL;VALUE=DURATION:PT1H
X-Robots-Tag:noindex
X-PUBLISHED-TTL:PT1H
BEGIN:VTIMEZONE
TZID:Europe/Athens
BEGIN:DAYLIGHT
TZOFFSETFROM:+0200
TZOFFSETTO:+0300
TZNAME:EEST
DTSTART:20260329T010000
END:DAYLIGHT
BEGIN:STANDARD
TZOFFSETFROM:+0300
TZOFFSETTO:+0200
TZNAME:EET
DTSTART:20261025T010000
END:STANDARD
END:VTIMEZONE
BEGIN:VEVENT
DTSTART;TZID=Europe/Athens:20260508T190000
DTEND;TZID=Europe/Athens:20260508T230000
DTSTAMP:20260420T153249
CREATED:20260420T090413Z
LAST-MODIFIED:20260420T092639Z
UID:10005341-1778266800-1778281200@cityfestival.thisisathens.org
SUMMARY:Kristine Lippire: From LA to Athens - Notes on Light and Material
DESCRIPTION:Ο χώρος του Phoenix Athens φιλοξενεί την καλλιτέχνιδα Kristine Lippire από το Λος Άντζελες\, σε μια έκθεση που ενώνει την αμερικανική μεγαλούπολη με την Αθήνα.\n\nΜε επίκεντρο τη γειτονιά των Εξαρχείων\, η Lippire εμπνέεται από την ενέργεια της νεολαίας\, τον ιδεαλισμό και το γκράφιτι ως μέσο έκφρασης και διεκδίκησης μέσα στον αστικό ιστό. Με γλυπτά από τσιμέντο\, έργα ζωγραφικής και μοτίβα επηρεασμένα από τις σιδεριές των μεταπολεμικών κτιρίων\, η καλλιτέχνις μεταμορφώνει αρχιτεκτονικά θραύσματα σε μια νέα οπτική γλώσσα.\n\nΤο έργο της δεν είναι απλώς μια αισθητική πρόταση\, αλλά ένας βαθύς στοχασμός πάνω στην ανθεκτικότητα και τη συλλογική μνήμη που εγγράφεται στους τοίχους και τους δρόμους των πόλεων. Μια πρόσκληση να δούμε την αστική πραγματικότητα με μια πιο ανθρώπινη και δημιουργική ματιά\, εκεί όπου το εκτυφλωτικό φως συναντά τις ατέλειες της καθημερινότητας.\n\n\nΕγκαίνια: Παρασκευή 8 Μαΐου στις 19:00.\n\nΏρες Λειτουργίας: Τρίτη\, Πέμπτη\, Παρασκευή: 12:00–18:00\, Τετάρτη\, Σάββατο: 12:00–16:00. Δευτέρα & Κυριακή: κλειστά.
URL:https://cityfestival.thisisathens.org/event/kristine-lippire-from-la-to-athens-notes-on-light-and-material/2026-05-08/
LOCATION:Phoenix Athens\, Ασκληπιού 89\, Αθήνα\, 114 72\, Greece
CATEGORIES:ΓΚΑΛΕΡΙ,ΔΩΡΕΑΝ,ΕΚΘΕΣΗ
ATTACH;FMTTYPE=image/jpeg:https://cityfestival.thisisathens.org/wp-content/uploads/2026/04/image01-rotated.jpeg
GEO:37.985024776348;23.740597095914
X-APPLE-STRUCTURED-LOCATION;VALUE=URI;X-ADDRESS=Phoenix Athens Ασκληπιού 89 Αθήνα 114 72 Greece;X-APPLE-RADIUS=500;X-TITLE=Ασκληπιού 89:geo:23.740597095914,37.985024776348
END:VEVENT
BEGIN:VEVENT
DTSTART;TZID=Europe/Athens:20260509T120000
DTEND;TZID=Europe/Athens:20260509T160000
DTSTAMP:20260420T153249
CREATED:20260420T090413Z
LAST-MODIFIED:20260420T092639Z
UID:10005342-1778328000-1778342400@cityfestival.thisisathens.org
SUMMARY:Kristine Lippire: From LA to Athens - Notes on Light and Material
DESCRIPTION:Ο χώρος του Phoenix Athens φιλοξενεί την καλλιτέχνιδα Kristine Lippire από το Λος Άντζελες\, σε μια έκθεση που ενώνει την αμερικανική μεγαλούπολη με την Αθήνα.\n\nΜε επίκεντρο τη γειτονιά των Εξαρχείων\, η Lippire εμπνέεται από την ενέργεια της νεολαίας\, τον ιδεαλισμό και το γκράφιτι ως μέσο έκφρασης και διεκδίκησης μέσα στον αστικό ιστό. Με γλυπτά από τσιμέντο\, έργα ζωγραφικής και μοτίβα επηρεασμένα από τις σιδεριές των μεταπολεμικών κτιρίων\, η καλλιτέχνις μεταμορφώνει αρχιτεκτονικά θραύσματα σε μια νέα οπτική γλώσσα.\n\nΤο έργο της δεν είναι απλώς μια αισθητική πρόταση\, αλλά ένας βαθύς στοχασμός πάνω στην ανθεκτικότητα και τη συλλογική μνήμη που εγγράφεται στους τοίχους και τους δρόμους των πόλεων. Μια πρόσκληση να δούμε την αστική πραγματικότητα με μια πιο ανθρώπινη και δημιουργική ματιά\, εκεί όπου το εκτυφλωτικό φως συναντά τις ατέλειες της καθημερινότητας.\n\n\nΕγκαίνια: Παρασκευή 8 Μαΐου στις 19:00.\n\nΏρες Λειτουργίας: Τρίτη\, Πέμπτη\, Παρασκευή: 12:00–18:00\, Τετάρτη\, Σάββατο: 12:00–16:00. Δευτέρα & Κυριακή: κλειστά.
URL:https://cityfestival.thisisathens.org/event/kristine-lippire-from-la-to-athens-notes-on-light-and-material/2026-05-09/
LOCATION:Phoenix Athens\, Ασκληπιού 89\, Αθήνα\, 114 72\, Greece
CATEGORIES:ΓΚΑΛΕΡΙ,ΔΩΡΕΑΝ,ΕΚΘΕΣΗ
ATTACH;FMTTYPE=image/jpeg:https://cityfestival.thisisathens.org/wp-content/uploads/2026/04/image01-rotated.jpeg
GEO:37.985024776348;23.740597095914
X-APPLE-STRUCTURED-LOCATION;VALUE=URI;X-ADDRESS=Phoenix Athens Ασκληπιού 89 Αθήνα 114 72 Greece;X-APPLE-RADIUS=500;X-TITLE=Ασκληπιού 89:geo:23.740597095914,37.985024776348
END:VEVENT
BEGIN:VEVENT
DTSTART;TZID=Europe/Athens:20260512T120000
DTEND;TZID=Europe/Athens:20260512T180000
DTSTAMP:20260420T153249
CREATED:20260420T090413Z
LAST-MODIFIED:20260420T092639Z
UID:10005343-1778587200-1778608800@cityfestival.thisisathens.org
SUMMARY:Kristine Lippire: From LA to Athens - Notes on Light and Material
DESCRIPTION:Ο χώρος του Phoenix Athens φιλοξενεί την καλλιτέχνιδα Kristine Lippire από το Λος Άντζελες\, σε μια έκθεση που ενώνει την αμερικανική μεγαλούπολη με την Αθήνα.\n\nΜε επίκεντρο τη γειτονιά των Εξαρχείων\, η Lippire εμπνέεται από την ενέργεια της νεολαίας\, τον ιδεαλισμό και το γκράφιτι ως μέσο έκφρασης και διεκδίκησης μέσα στον αστικό ιστό. Με γλυπτά από τσιμέντο\, έργα ζωγραφικής και μοτίβα επηρεασμένα από τις σιδεριές των μεταπολεμικών κτιρίων\, η καλλιτέχνις μεταμορφώνει αρχιτεκτονικά θραύσματα σε μια νέα οπτική γλώσσα.\n\nΤο έργο της δεν είναι απλώς μια αισθητική πρόταση\, αλλά ένας βαθύς στοχασμός πάνω στην ανθεκτικότητα και τη συλλογική μνήμη που εγγράφεται στους τοίχους και τους δρόμους των πόλεων. Μια πρόσκληση να δούμε την αστική πραγματικότητα με μια πιο ανθρώπινη και δημιουργική ματιά\, εκεί όπου το εκτυφλωτικό φως συναντά τις ατέλειες της καθημερινότητας.\n\n\nΕγκαίνια: Παρασκευή 8 Μαΐου στις 19:00.\n\nΏρες Λειτουργίας: Τρίτη\, Πέμπτη\, Παρασκευή: 12:00–18:00\, Τετάρτη\, Σάββατο: 12:00–16:00. Δευτέρα & Κυριακή: κλειστά.
URL:https://cityfestival.thisisathens.org/event/kristine-lippire-from-la-to-athens-notes-on-light-and-material/2026-05-12/
LOCATION:Phoenix Athens\, Ασκληπιού 89\, Αθήνα\, 114 72\, Greece
CATEGORIES:ΓΚΑΛΕΡΙ,ΔΩΡΕΑΝ,ΕΚΘΕΣΗ
ATTACH;FMTTYPE=image/jpeg:https://cityfestival.thisisathens.org/wp-content/uploads/2026/04/image01-rotated.jpeg
GEO:37.985024776348;23.740597095914
X-APPLE-STRUCTURED-LOCATION;VALUE=URI;X-ADDRESS=Phoenix Athens Ασκληπιού 89 Αθήνα 114 72 Greece;X-APPLE-RADIUS=500;X-TITLE=Ασκληπιού 89:geo:23.740597095914,37.985024776348
END:VEVENT
BEGIN:VEVENT
DTSTART;TZID=Europe/Athens:20260513T120000
DTEND;TZID=Europe/Athens:20260513T160000
DTSTAMP:20260420T153249
CREATED:20260420T090413Z
LAST-MODIFIED:20260420T092639Z
UID:10005344-1778673600-1778688000@cityfestival.thisisathens.org
SUMMARY:Kristine Lippire: From LA to Athens - Notes on Light and Material
DESCRIPTION:Ο χώρος του Phoenix Athens φιλοξενεί την καλλιτέχνιδα Kristine Lippire από το Λος Άντζελες\, σε μια έκθεση που ενώνει την αμερικανική μεγαλούπολη με την Αθήνα.\n\nΜε επίκεντρο τη γειτονιά των Εξαρχείων\, η Lippire εμπνέεται από την ενέργεια της νεολαίας\, τον ιδεαλισμό και το γκράφιτι ως μέσο έκφρασης και διεκδίκησης μέσα στον αστικό ιστό. Με γλυπτά από τσιμέντο\, έργα ζωγραφικής και μοτίβα επηρεασμένα από τις σιδεριές των μεταπολεμικών κτιρίων\, η καλλιτέχνις μεταμορφώνει αρχιτεκτονικά θραύσματα σε μια νέα οπτική γλώσσα.\n\nΤο έργο της δεν είναι απλώς μια αισθητική πρόταση\, αλλά ένας βαθύς στοχασμός πάνω στην ανθεκτικότητα και τη συλλογική μνήμη που εγγράφεται στους τοίχους και τους δρόμους των πόλεων. Μια πρόσκληση να δούμε την αστική πραγματικότητα με μια πιο ανθρώπινη και δημιουργική ματιά\, εκεί όπου το εκτυφλωτικό φως συναντά τις ατέλειες της καθημερινότητας.\n\n\nΕγκαίνια: Παρασκευή 8 Μαΐου στις 19:00.\n\nΏρες Λειτουργίας: Τρίτη\, Πέμπτη\, Παρασκευή: 12:00–18:00\, Τετάρτη\, Σάββατο: 12:00–16:00. Δευτέρα & Κυριακή: κλειστά.
URL:https://cityfestival.thisisathens.org/event/kristine-lippire-from-la-to-athens-notes-on-light-and-material/2026-05-13/
LOCATION:Phoenix Athens\, Ασκληπιού 89\, Αθήνα\, 114 72\, Greece
CATEGORIES:ΓΚΑΛΕΡΙ,ΔΩΡΕΑΝ,ΕΚΘΕΣΗ
ATTACH;FMTTYPE=image/jpeg:https://cityfestival.thisisathens.org/wp-content/uploads/2026/04/image01-rotated.jpeg
GEO:37.985024776348;23.740597095914
X-APPLE-STRUCTURED-LOCATION;VALUE=URI;X-ADDRESS=Phoenix Athens Ασκληπιού 89 Αθήνα 114 72 Greece;X-APPLE-RADIUS=500;X-TITLE=Ασκληπιού 89:geo:23.740597095914,37.985024776348
END:VEVENT
BEGIN:VEVENT
DTSTART;TZID=Europe/Athens:20260514T120000
DTEND;TZID=Europe/Athens:20260514T180000
DTSTAMP:20260420T153249
CREATED:20260420T090413Z
LAST-MODIFIED:20260420T092639Z
UID:10005345-1778760000-1778781600@cityfestival.thisisathens.org
SUMMARY:Kristine Lippire: From LA to Athens - Notes on Light and Material
DESCRIPTION:Ο χώρος του Phoenix Athens φιλοξενεί την καλλιτέχνιδα Kristine Lippire από το Λος Άντζελες\, σε μια έκθεση που ενώνει την αμερικανική μεγαλούπολη με την Αθήνα.\n\nΜε επίκεντρο τη γειτονιά των Εξαρχείων\, η Lippire εμπνέεται από την ενέργεια της νεολαίας\, τον ιδεαλισμό και το γκράφιτι ως μέσο έκφρασης και διεκδίκησης μέσα στον αστικό ιστό. Με γλυπτά από τσιμέντο\, έργα ζωγραφικής και μοτίβα επηρεασμένα από τις σιδεριές των μεταπολεμικών κτιρίων\, η καλλιτέχνις μεταμορφώνει αρχιτεκτονικά θραύσματα σε μια νέα οπτική γλώσσα.\n\nΤο έργο της δεν είναι απλώς μια αισθητική πρόταση\, αλλά ένας βαθύς στοχασμός πάνω στην ανθεκτικότητα και τη συλλογική μνήμη που εγγράφεται στους τοίχους και τους δρόμους των πόλεων. Μια πρόσκληση να δούμε την αστική πραγματικότητα με μια πιο ανθρώπινη και δημιουργική ματιά\, εκεί όπου το εκτυφλωτικό φως συναντά τις ατέλειες της καθημερινότητας.\n\n\nΕγκαίνια: Παρασκευή 8 Μαΐου στις 19:00.\n\nΏρες Λειτουργίας: Τρίτη\, Πέμπτη\, Παρασκευή: 12:00–18:00\, Τετάρτη\, Σάββατο: 12:00–16:00. Δευτέρα & Κυριακή: κλειστά.
URL:https://cityfestival.thisisathens.org/event/kristine-lippire-from-la-to-athens-notes-on-light-and-material/2026-05-14/
LOCATION:Phoenix Athens\, Ασκληπιού 89\, Αθήνα\, 114 72\, Greece
CATEGORIES:ΓΚΑΛΕΡΙ,ΔΩΡΕΑΝ,ΕΚΘΕΣΗ
ATTACH;FMTTYPE=image/jpeg:https://cityfestival.thisisathens.org/wp-content/uploads/2026/04/image01-rotated.jpeg
GEO:37.985024776348;23.740597095914
X-APPLE-STRUCTURED-LOCATION;VALUE=URI;X-ADDRESS=Phoenix Athens Ασκληπιού 89 Αθήνα 114 72 Greece;X-APPLE-RADIUS=500;X-TITLE=Ασκληπιού 89:geo:23.740597095914,37.985024776348
END:VEVENT
BEGIN:VEVENT
DTSTART;TZID=Europe/Athens:20260515T120000
DTEND;TZID=Europe/Athens:20260515T180000
DTSTAMP:20260420T153249
CREATED:20260420T090413Z
LAST-MODIFIED:20260420T092639Z
UID:10005346-1778846400-1778868000@cityfestival.thisisathens.org
SUMMARY:Kristine Lippire: From LA to Athens - Notes on Light and Material
DESCRIPTION:Ο χώρος του Phoenix Athens φιλοξενεί την καλλιτέχνιδα Kristine Lippire από το Λος Άντζελες\, σε μια έκθεση που ενώνει την αμερικανική μεγαλούπολη με την Αθήνα.\n\nΜε επίκεντρο τη γειτονιά των Εξαρχείων\, η Lippire εμπνέεται από την ενέργεια της νεολαίας\, τον ιδεαλισμό και το γκράφιτι ως μέσο έκφρασης και διεκδίκησης μέσα στον αστικό ιστό. Με γλυπτά από τσιμέντο\, έργα ζωγραφικής και μοτίβα επηρεασμένα από τις σιδεριές των μεταπολεμικών κτιρίων\, η καλλιτέχνις μεταμορφώνει αρχιτεκτονικά θραύσματα σε μια νέα οπτική γλώσσα.\n\nΤο έργο της δεν είναι απλώς μια αισθητική πρόταση\, αλλά ένας βαθύς στοχασμός πάνω στην ανθεκτικότητα και τη συλλογική μνήμη που εγγράφεται στους τοίχους και τους δρόμους των πόλεων. Μια πρόσκληση να δούμε την αστική πραγματικότητα με μια πιο ανθρώπινη και δημιουργική ματιά\, εκεί όπου το εκτυφλωτικό φως συναντά τις ατέλειες της καθημερινότητας.\n\n\nΕγκαίνια: Παρασκευή 8 Μαΐου στις 19:00.\n\nΏρες Λειτουργίας: Τρίτη\, Πέμπτη\, Παρασκευή: 12:00–18:00\, Τετάρτη\, Σάββατο: 12:00–16:00. Δευτέρα & Κυριακή: κλειστά.
URL:https://cityfestival.thisisathens.org/event/kristine-lippire-from-la-to-athens-notes-on-light-and-material/2026-05-15/
LOCATION:Phoenix Athens\, Ασκληπιού 89\, Αθήνα\, 114 72\, Greece
CATEGORIES:ΓΚΑΛΕΡΙ,ΔΩΡΕΑΝ,ΕΚΘΕΣΗ
ATTACH;FMTTYPE=image/jpeg:https://cityfestival.thisisathens.org/wp-content/uploads/2026/04/image01-rotated.jpeg
GEO:37.985024776348;23.740597095914
X-APPLE-STRUCTURED-LOCATION;VALUE=URI;X-ADDRESS=Phoenix Athens Ασκληπιού 89 Αθήνα 114 72 Greece;X-APPLE-RADIUS=500;X-TITLE=Ασκληπιού 89:geo:23.740597095914,37.985024776348
END:VEVENT
BEGIN:VEVENT
DTSTART;TZID=Europe/Athens:20260516T120000
DTEND;TZID=Europe/Athens:20260516T160000
DTSTAMP:20260420T153249
CREATED:20260420T090413Z
LAST-MODIFIED:20260420T092639Z
UID:10005347-1778932800-1778947200@cityfestival.thisisathens.org
SUMMARY:Kristine Lippire: From LA to Athens - Notes on Light and Material
DESCRIPTION:Ο χώρος του Phoenix Athens φιλοξενεί την καλλιτέχνιδα Kristine Lippire από το Λος Άντζελες\, σε μια έκθεση που ενώνει την αμερικανική μεγαλούπολη με την Αθήνα.\n\nΜε επίκεντρο τη γειτονιά των Εξαρχείων\, η Lippire εμπνέεται από την ενέργεια της νεολαίας\, τον ιδεαλισμό και το γκράφιτι ως μέσο έκφρασης και διεκδίκησης μέσα στον αστικό ιστό. Με γλυπτά από τσιμέντο\, έργα ζωγραφικής και μοτίβα επηρεασμένα από τις σιδεριές των μεταπολεμικών κτιρίων\, η καλλιτέχνις μεταμορφώνει αρχιτεκτονικά θραύσματα σε μια νέα οπτική γλώσσα.\n\nΤο έργο της δεν είναι απλώς μια αισθητική πρόταση\, αλλά ένας βαθύς στοχασμός πάνω στην ανθεκτικότητα και τη συλλογική μνήμη που εγγράφεται στους τοίχους και τους δρόμους των πόλεων. Μια πρόσκληση να δούμε την αστική πραγματικότητα με μια πιο ανθρώπινη και δημιουργική ματιά\, εκεί όπου το εκτυφλωτικό φως συναντά τις ατέλειες της καθημερινότητας.\n\n\nΕγκαίνια: Παρασκευή 8 Μαΐου στις 19:00.\n\nΏρες Λειτουργίας: Τρίτη\, Πέμπτη\, Παρασκευή: 12:00–18:00\, Τετάρτη\, Σάββατο: 12:00–16:00. Δευτέρα & Κυριακή: κλειστά.
URL:https://cityfestival.thisisathens.org/event/kristine-lippire-from-la-to-athens-notes-on-light-and-material/2026-05-16/
LOCATION:Phoenix Athens\, Ασκληπιού 89\, Αθήνα\, 114 72\, Greece
CATEGORIES:ΓΚΑΛΕΡΙ,ΔΩΡΕΑΝ,ΕΚΘΕΣΗ
ATTACH;FMTTYPE=image/jpeg:https://cityfestival.thisisathens.org/wp-content/uploads/2026/04/image01-rotated.jpeg
GEO:37.985024776348;23.740597095914
X-APPLE-STRUCTURED-LOCATION;VALUE=URI;X-ADDRESS=Phoenix Athens Ασκληπιού 89 Αθήνα 114 72 Greece;X-APPLE-RADIUS=500;X-TITLE=Ασκληπιού 89:geo:23.740597095914,37.985024776348
END:VEVENT
BEGIN:VEVENT
DTSTART;TZID=Europe/Athens:20260519T120000
DTEND;TZID=Europe/Athens:20260519T180000
DTSTAMP:20260420T153249
CREATED:20260420T090413Z
LAST-MODIFIED:20260420T092639Z
UID:10005348-1779192000-1779213600@cityfestival.thisisathens.org
SUMMARY:Kristine Lippire: From LA to Athens - Notes on Light and Material
DESCRIPTION:Ο χώρος του Phoenix Athens φιλοξενεί την καλλιτέχνιδα Kristine Lippire από το Λος Άντζελες\, σε μια έκθεση που ενώνει την αμερικανική μεγαλούπολη με την Αθήνα.\n\nΜε επίκεντρο τη γειτονιά των Εξαρχείων\, η Lippire εμπνέεται από την ενέργεια της νεολαίας\, τον ιδεαλισμό και το γκράφιτι ως μέσο έκφρασης και διεκδίκησης μέσα στον αστικό ιστό. Με γλυπτά από τσιμέντο\, έργα ζωγραφικής και μοτίβα επηρεασμένα από τις σιδεριές των μεταπολεμικών κτιρίων\, η καλλιτέχνις μεταμορφώνει αρχιτεκτονικά θραύσματα σε μια νέα οπτική γλώσσα.\n\nΤο έργο της δεν είναι απλώς μια αισθητική πρόταση\, αλλά ένας βαθύς στοχασμός πάνω στην ανθεκτικότητα και τη συλλογική μνήμη που εγγράφεται στους τοίχους και τους δρόμους των πόλεων. Μια πρόσκληση να δούμε την αστική πραγματικότητα με μια πιο ανθρώπινη και δημιουργική ματιά\, εκεί όπου το εκτυφλωτικό φως συναντά τις ατέλειες της καθημερινότητας.\n\n\nΕγκαίνια: Παρασκευή 8 Μαΐου στις 19:00.\n\nΏρες Λειτουργίας: Τρίτη\, Πέμπτη\, Παρασκευή: 12:00–18:00\, Τετάρτη\, Σάββατο: 12:00–16:00. Δευτέρα & Κυριακή: κλειστά.
URL:https://cityfestival.thisisathens.org/event/kristine-lippire-from-la-to-athens-notes-on-light-and-material/2026-05-19/
LOCATION:Phoenix Athens\, Ασκληπιού 89\, Αθήνα\, 114 72\, Greece
CATEGORIES:ΓΚΑΛΕΡΙ,ΔΩΡΕΑΝ,ΕΚΘΕΣΗ
ATTACH;FMTTYPE=image/jpeg:https://cityfestival.thisisathens.org/wp-content/uploads/2026/04/image01-rotated.jpeg
GEO:37.985024776348;23.740597095914
X-APPLE-STRUCTURED-LOCATION;VALUE=URI;X-ADDRESS=Phoenix Athens Ασκληπιού 89 Αθήνα 114 72 Greece;X-APPLE-RADIUS=500;X-TITLE=Ασκληπιού 89:geo:23.740597095914,37.985024776348
END:VEVENT
BEGIN:VEVENT
DTSTART;TZID=Europe/Athens:20260520T120000
DTEND;TZID=Europe/Athens:20260520T160000
DTSTAMP:20260420T153249
CREATED:20260420T090413Z
LAST-MODIFIED:20260420T092639Z
UID:10005349-1779278400-1779292800@cityfestival.thisisathens.org
SUMMARY:Kristine Lippire: From LA to Athens - Notes on Light and Material
DESCRIPTION:Ο χώρος του Phoenix Athens φιλοξενεί την καλλιτέχνιδα Kristine Lippire από το Λος Άντζελες\, σε μια έκθεση που ενώνει την αμερικανική μεγαλούπολη με την Αθήνα.\n\nΜε επίκεντρο τη γειτονιά των Εξαρχείων\, η Lippire εμπνέεται από την ενέργεια της νεολαίας\, τον ιδεαλισμό και το γκράφιτι ως μέσο έκφρασης και διεκδίκησης μέσα στον αστικό ιστό. Με γλυπτά από τσιμέντο\, έργα ζωγραφικής και μοτίβα επηρεασμένα από τις σιδεριές των μεταπολεμικών κτιρίων\, η καλλιτέχνις μεταμορφώνει αρχιτεκτονικά θραύσματα σε μια νέα οπτική γλώσσα.\n\nΤο έργο της δεν είναι απλώς μια αισθητική πρόταση\, αλλά ένας βαθύς στοχασμός πάνω στην ανθεκτικότητα και τη συλλογική μνήμη που εγγράφεται στους τοίχους και τους δρόμους των πόλεων. Μια πρόσκληση να δούμε την αστική πραγματικότητα με μια πιο ανθρώπινη και δημιουργική ματιά\, εκεί όπου το εκτυφλωτικό φως συναντά τις ατέλειες της καθημερινότητας.\n\n\nΕγκαίνια: Παρασκευή 8 Μαΐου στις 19:00.\n\nΏρες Λειτουργίας: Τρίτη\, Πέμπτη\, Παρασκευή: 12:00–18:00\, Τετάρτη\, Σάββατο: 12:00–16:00. Δευτέρα & Κυριακή: κλειστά.
URL:https://cityfestival.thisisathens.org/event/kristine-lippire-from-la-to-athens-notes-on-light-and-material/2026-05-20/
LOCATION:Phoenix Athens\, Ασκληπιού 89\, Αθήνα\, 114 72\, Greece
CATEGORIES:ΓΚΑΛΕΡΙ,ΔΩΡΕΑΝ,ΕΚΘΕΣΗ
ATTACH;FMTTYPE=image/jpeg:https://cityfestival.thisisathens.org/wp-content/uploads/2026/04/image01-rotated.jpeg
GEO:37.985024776348;23.740597095914
X-APPLE-STRUCTURED-LOCATION;VALUE=URI;X-ADDRESS=Phoenix Athens Ασκληπιού 89 Αθήνα 114 72 Greece;X-APPLE-RADIUS=500;X-TITLE=Ασκληπιού 89:geo:23.740597095914,37.985024776348
END:VEVENT
BEGIN:VEVENT
DTSTART;TZID=Europe/Athens:20260521T120000
DTEND;TZID=Europe/Athens:20260521T180000
DTSTAMP:20260420T153249
CREATED:20260420T090413Z
LAST-MODIFIED:20260420T092639Z
UID:10005350-1779364800-1779386400@cityfestival.thisisathens.org
SUMMARY:Kristine Lippire: From LA to Athens - Notes on Light and Material
DESCRIPTION:Ο χώρος του Phoenix Athens φιλοξενεί την καλλιτέχνιδα Kristine Lippire από το Λος Άντζελες\, σε μια έκθεση που ενώνει την αμερικανική μεγαλούπολη με την Αθήνα.\n\nΜε επίκεντρο τη γειτονιά των Εξαρχείων\, η Lippire εμπνέεται από την ενέργεια της νεολαίας\, τον ιδεαλισμό και το γκράφιτι ως μέσο έκφρασης και διεκδίκησης μέσα στον αστικό ιστό. Με γλυπτά από τσιμέντο\, έργα ζωγραφικής και μοτίβα επηρεασμένα από τις σιδεριές των μεταπολεμικών κτιρίων\, η καλλιτέχνις μεταμορφώνει αρχιτεκτονικά θραύσματα σε μια νέα οπτική γλώσσα.\n\nΤο έργο της δεν είναι απλώς μια αισθητική πρόταση\, αλλά ένας βαθύς στοχασμός πάνω στην ανθεκτικότητα και τη συλλογική μνήμη που εγγράφεται στους τοίχους και τους δρόμους των πόλεων. Μια πρόσκληση να δούμε την αστική πραγματικότητα με μια πιο ανθρώπινη και δημιουργική ματιά\, εκεί όπου το εκτυφλωτικό φως συναντά τις ατέλειες της καθημερινότητας.\n\n\nΕγκαίνια: Παρασκευή 8 Μαΐου στις 19:00.\n\nΏρες Λειτουργίας: Τρίτη\, Πέμπτη\, Παρασκευή: 12:00–18:00\, Τετάρτη\, Σάββατο: 12:00–16:00. Δευτέρα & Κυριακή: κλειστά.
URL:https://cityfestival.thisisathens.org/event/kristine-lippire-from-la-to-athens-notes-on-light-and-material/2026-05-21/
LOCATION:Phoenix Athens\, Ασκληπιού 89\, Αθήνα\, 114 72\, Greece
CATEGORIES:ΓΚΑΛΕΡΙ,ΔΩΡΕΑΝ,ΕΚΘΕΣΗ
ATTACH;FMTTYPE=image/jpeg:https://cityfestival.thisisathens.org/wp-content/uploads/2026/04/image01-rotated.jpeg
GEO:37.985024776348;23.740597095914
X-APPLE-STRUCTURED-LOCATION;VALUE=URI;X-ADDRESS=Phoenix Athens Ασκληπιού 89 Αθήνα 114 72 Greece;X-APPLE-RADIUS=500;X-TITLE=Ασκληπιού 89:geo:23.740597095914,37.985024776348
END:VEVENT
END:VCALENDAR