BEGIN:VCALENDAR
VERSION:2.0
PRODID:-//Το Φεστιβάλ του Δήμου Αθηναίων - ECPv6.12.0.1//NONSGML v1.0//EN
CALSCALE:GREGORIAN
METHOD:PUBLISH
X-ORIGINAL-URL:https://cityfestival.thisisathens.org
X-WR-CALDESC:Events for Το Φεστιβάλ του Δήμου Αθηναίων
REFRESH-INTERVAL;VALUE=DURATION:PT1H
X-Robots-Tag:noindex
X-PUBLISHED-TTL:PT1H
BEGIN:VTIMEZONE
TZID:Europe/Athens
BEGIN:DAYLIGHT
TZOFFSETFROM:+0200
TZOFFSETTO:+0300
TZNAME:EEST
DTSTART:20260329T010000
END:DAYLIGHT
BEGIN:STANDARD
TZOFFSETFROM:+0300
TZOFFSETTO:+0200
TZNAME:EET
DTSTART:20261025T010000
END:STANDARD
END:VTIMEZONE
BEGIN:VEVENT
DTSTART;TZID=Europe/Athens:20260515T170000
DTEND;TZID=Europe/Athens:20260515T220000
DTSTAMP:20260421T205715
CREATED:20260421T131612Z
LAST-MODIFIED:20260421T131747Z
UID:10005488-1778864400-1778882400@cityfestival.thisisathens.org
SUMMARY:7o Φεστιβάλ Αστυνομικής Λογοτεχνίας Agatha
DESCRIPTION:Το Φεστιβάλ του Δήμου Αθηναίων 2026 υποδέχεται το 7ο Φεστιβάλ Αστυνομικής Λογοτεχνίας Agatha\, το ετήσιο λογοτεχνικό ραντεβού που μετατρέπει την Αθήνα σε σκηνικό μυστηρίου. Η διοργάνωση ξεκινά στις 5 Μαΐου με pre-festival events και κορυφώνεται το τριήμερο 15\, 16 και 17 Μαΐου στο Πολεμικό Μουσείο\, με ένα συναρπαστικό πρόγραμμα.\n\nΤο φετινό Φεστιβάλ φιλοξενεί εμβληματικά ονόματα της διεθνούς λογοτεχνικής σκηνής\, όπως τον διάσημο Ισπανό Arturo Pérez-Reverte\, την B.A. Paris\, την Kristina Ohlsson και τον Hugues Pagan. Από το αληθινό έγκλημα και τα παιχνίδια μυστηρίου μέχρι τα σεμινάρια δημιουργικής γραφής και τα ρεμπέτικα τραγούδια που υμνούν το «παράνομο»\, το Agatha 2026 υπόσχεται εκπλήξεις για κάθε λάτρη του είδους. Highlights της χρονιάς αποτελούν η θεατρική παράσταση με πρωταγωνιστές τους ίδιους τους συγγραφείς\, το μεγάλο αφιέρωμα στον «πατέρα» του ελληνικού αστυνομικού Γιάννη Μαρή\, καθώς και η απονομή του Βραβείου Agatha.\n\nΜε δράσεις που απλώνονται από το Θησείο μέχρι τον Χολαργό\, η πόλη συντονίζεται στον ρυθμό του εγκλήματος και της λογοτεχνίας\, αναζητώντας την αλήθεια πίσω από τις σελίδες των πιο καθηλωτικών βιβλίων.
URL:https://cityfestival.thisisathens.org/event/7-festival-astynomiki-logotexnia-agatha/2026-05-15/
LOCATION:Πολεμικό Μουσείο\, Ριζάρη 2-4\, Αθήνα\, Αθήνα\, 106 75\, Greece
CATEGORIES:ΕΚΘΕΣΗ,ΛΟΓΟΤΕΧΝΙΑ
ATTACH;FMTTYPE=image/jpeg:https://cityfestival.thisisathens.org/wp-content/uploads/2026/04/agatha-festival_poster_A3_sponsors-2.jpg
END:VEVENT
BEGIN:VEVENT
DTSTART;TZID=Europe/Athens:20260516T170000
DTEND;TZID=Europe/Athens:20260516T210000
DTSTAMP:20260421T205715
CREATED:20260421T131612Z
LAST-MODIFIED:20260421T131747Z
UID:10005489-1778950800-1778965200@cityfestival.thisisathens.org
SUMMARY:7o Φεστιβάλ Αστυνομικής Λογοτεχνίας Agatha
DESCRIPTION:Το Φεστιβάλ του Δήμου Αθηναίων 2026 υποδέχεται το 7ο Φεστιβάλ Αστυνομικής Λογοτεχνίας Agatha\, το ετήσιο λογοτεχνικό ραντεβού που μετατρέπει την Αθήνα σε σκηνικό μυστηρίου. Η διοργάνωση ξεκινά στις 5 Μαΐου με pre-festival events και κορυφώνεται το τριήμερο 15\, 16 και 17 Μαΐου στο Πολεμικό Μουσείο\, με ένα συναρπαστικό πρόγραμμα.\n\nΤο φετινό Φεστιβάλ φιλοξενεί εμβληματικά ονόματα της διεθνούς λογοτεχνικής σκηνής\, όπως τον διάσημο Ισπανό Arturo Pérez-Reverte\, την B.A. Paris\, την Kristina Ohlsson και τον Hugues Pagan. Από το αληθινό έγκλημα και τα παιχνίδια μυστηρίου μέχρι τα σεμινάρια δημιουργικής γραφής και τα ρεμπέτικα τραγούδια που υμνούν το «παράνομο»\, το Agatha 2026 υπόσχεται εκπλήξεις για κάθε λάτρη του είδους. Highlights της χρονιάς αποτελούν η θεατρική παράσταση με πρωταγωνιστές τους ίδιους τους συγγραφείς\, το μεγάλο αφιέρωμα στον «πατέρα» του ελληνικού αστυνομικού Γιάννη Μαρή\, καθώς και η απονομή του Βραβείου Agatha.\n\nΜε δράσεις που απλώνονται από το Θησείο μέχρι τον Χολαργό\, η πόλη συντονίζεται στον ρυθμό του εγκλήματος και της λογοτεχνίας\, αναζητώντας την αλήθεια πίσω από τις σελίδες των πιο καθηλωτικών βιβλίων.
URL:https://cityfestival.thisisathens.org/event/7-festival-astynomiki-logotexnia-agatha/2026-05-16/
LOCATION:Πολεμικό Μουσείο\, Ριζάρη 2-4\, Αθήνα\, Αθήνα\, 106 75\, Greece
CATEGORIES:ΕΚΘΕΣΗ,ΛΟΓΟΤΕΧΝΙΑ
ATTACH;FMTTYPE=image/jpeg:https://cityfestival.thisisathens.org/wp-content/uploads/2026/04/agatha-festival_poster_A3_sponsors-2.jpg
END:VEVENT
BEGIN:VEVENT
DTSTART;TZID=Europe/Athens:20260517T120000
DTEND;TZID=Europe/Athens:20260517T200000
DTSTAMP:20260421T205715
CREATED:20260421T131612Z
LAST-MODIFIED:20260421T131747Z
UID:10005490-1779019200-1779048000@cityfestival.thisisathens.org
SUMMARY:7o Φεστιβάλ Αστυνομικής Λογοτεχνίας Agatha
DESCRIPTION:Το Φεστιβάλ του Δήμου Αθηναίων 2026 υποδέχεται το 7ο Φεστιβάλ Αστυνομικής Λογοτεχνίας Agatha\, το ετήσιο λογοτεχνικό ραντεβού που μετατρέπει την Αθήνα σε σκηνικό μυστηρίου. Η διοργάνωση ξεκινά στις 5 Μαΐου με pre-festival events και κορυφώνεται το τριήμερο 15\, 16 και 17 Μαΐου στο Πολεμικό Μουσείο\, με ένα συναρπαστικό πρόγραμμα.\n\nΤο φετινό Φεστιβάλ φιλοξενεί εμβληματικά ονόματα της διεθνούς λογοτεχνικής σκηνής\, όπως τον διάσημο Ισπανό Arturo Pérez-Reverte\, την B.A. Paris\, την Kristina Ohlsson και τον Hugues Pagan. Από το αληθινό έγκλημα και τα παιχνίδια μυστηρίου μέχρι τα σεμινάρια δημιουργικής γραφής και τα ρεμπέτικα τραγούδια που υμνούν το «παράνομο»\, το Agatha 2026 υπόσχεται εκπλήξεις για κάθε λάτρη του είδους. Highlights της χρονιάς αποτελούν η θεατρική παράσταση με πρωταγωνιστές τους ίδιους τους συγγραφείς\, το μεγάλο αφιέρωμα στον «πατέρα» του ελληνικού αστυνομικού Γιάννη Μαρή\, καθώς και η απονομή του Βραβείου Agatha.\n\nΜε δράσεις που απλώνονται από το Θησείο μέχρι τον Χολαργό\, η πόλη συντονίζεται στον ρυθμό του εγκλήματος και της λογοτεχνίας\, αναζητώντας την αλήθεια πίσω από τις σελίδες των πιο καθηλωτικών βιβλίων.
URL:https://cityfestival.thisisathens.org/event/7-festival-astynomiki-logotexnia-agatha/2026-05-17/
LOCATION:Πολεμικό Μουσείο\, Ριζάρη 2-4\, Αθήνα\, Αθήνα\, 106 75\, Greece
CATEGORIES:ΕΚΘΕΣΗ,ΛΟΓΟΤΕΧΝΙΑ
ATTACH;FMTTYPE=image/jpeg:https://cityfestival.thisisathens.org/wp-content/uploads/2026/04/agatha-festival_poster_A3_sponsors-2.jpg
END:VEVENT
END:VCALENDAR