BEGIN:VCALENDAR
VERSION:2.0
PRODID:-//Το Φεστιβάλ του Δήμου Αθηναίων - ECPv6.12.0.1//NONSGML v1.0//EN
CALSCALE:GREGORIAN
METHOD:PUBLISH
X-WR-CALNAME:Το Φεστιβάλ του Δήμου Αθηναίων
X-ORIGINAL-URL:https://cityfestival.thisisathens.org
X-WR-CALDESC:Events for Το Φεστιβάλ του Δήμου Αθηναίων
REFRESH-INTERVAL;VALUE=DURATION:PT1H
X-Robots-Tag:noindex
X-PUBLISHED-TTL:PT1H
BEGIN:VTIMEZONE
TZID:Europe/Athens
BEGIN:DAYLIGHT
TZOFFSETFROM:+0200
TZOFFSETTO:+0300
TZNAME:EEST
DTSTART:20260329T010000
END:DAYLIGHT
BEGIN:STANDARD
TZOFFSETFROM:+0300
TZOFFSETTO:+0200
TZNAME:EET
DTSTART:20261025T010000
END:STANDARD
END:VTIMEZONE
BEGIN:VEVENT
DTSTART;TZID=Europe/Athens:20260520T140000
DTEND;TZID=Europe/Athens:20260520T180000
DTSTAMP:20260420T004501
CREATED:20260331T130150Z
LAST-MODIFIED:20260407T140936Z
UID:10004324-1779285600-1779300000@cityfestival.thisisathens.org
SUMMARY:Παιδί και Μέλισσα
DESCRIPTION:Με αφορμή την Παγκόσμια Ημέρα Μέλισσας\, ο Εθνικός Κήπος γεμίζει ζωή\, χρώμα και παιδική φαντασία σε μια ξεχωριστή δράση αφιερωμένη στη φύση\, τη φροντίδα και τη δύναμη των μικρών θαυμάτων. Ο χώρος δίπλα στην παιδική χαρά μεταμορφώνεται σε ένα ονειρικό μελισσοκομικό τοπίο\, έτοιμο να υποδεχθεί παιδιά και γονείς σε μια εκδήλωση γεμάτη ζεστασιά\, παιχνίδι και πολλή γλυκύτητα. Τα παιδιά βλέπουν και πιάνουν τις κερήθρες με τα χέρια τους\, ντύνονται μελισσοκόμοι με τις στολές\, βλέπουν το σπίτι των μελισσών την κυψέλη\, και το καπνιστήρι. Πρωταγωνίστρια της βραδιάς είναι η Χρυσάνθη\, η μικρή και θαρραλέα μελισσούλα από το νέο παιδικό βιβλίο του Διευθύνοντος Συμβούλου της ΔΑΕΜ Α.Ε. του Δήμου Αθηναίων\, Λάζαρου Καραούλη\, με τίτλο «Χρυσάνθη\, η μικρή μέλισσα που έφερε την Άνοιξη». Μια τρυφερή αφορμή για να μιλήσουμε για τη φύση\, τη σημασία της μέλισσας και τη δύναμη που μπορεί να έχει ακόμη και το πιο μικρό πλάσμα όταν κινείται με τόλμη και αγάπη.\n\nΣημείο συνάντησης: Δίπλα στην παιδική χαρά.\n\nΟι κρατήσεις ανοίγουν μία εβδομάδα πριν τη δράση\, στις 12:00 το μεσημέρι.
URL:https://cityfestival.thisisathens.org/event/paidi-melissa/
LOCATION:Εθνικός Κήπος\, Βασ. Αμαλίας 1\, Αθήνα\, Αθήνα\, 105 57\, Greece
CATEGORIES:ΔΩΡΕΑΝ,ΕΡΓΑΣΤΗΡΙΑ,ΠΑΙΔΙ,ΥΠΑΙΘΡΙΑ ΔΡΑΣΗ
ATTACH;FMTTYPE=image/jpeg:https://cityfestival.thisisathens.org/wp-content/uploads/2026/03/1000014955.jpg
END:VEVENT
BEGIN:VEVENT
DTSTART;TZID=Europe/Athens:20260522T180000
DTEND;TZID=Europe/Athens:20260522T193000
DTSTAMP:20260420T004501
CREATED:20260403T110253Z
LAST-MODIFIED:20260407T073634Z
UID:10005000-1779472800-1779478200@cityfestival.thisisathens.org
SUMMARY:Μελαχρινός Βελέντζας: Rebirth
DESCRIPTION:Η καλλιτεχνική δράση “Rebirth” του πιανίστα και performer Μελαχρινού Βελέντζα\, μια σύνθεση performance\, installation και συμμετοχικού happening\, επαναφέρει στη ζωή ένα εγκαταλελειμμένο πιάνο της Αθήνας σε εμβληματικούς χώρους της πόλης. Μέσα από ένα μουσικό τελετουργικό\, το όργανο ηχεί ξανά έπειτα από χρόνια σιωπής\, παραλληλίζοντας τη φθορά του ανενεργού αντικειμένου με τη ματαίωση του ανθρώπου που χάνει τη σύνδεση με το «παιχνίδι». Κατά τη διάρκεια του δρώμενου\, το κοινό συμμετέχει σε μια συλλογική δράση συγγραφής\, εναποθέτοντας προσωπικές ιστορίες στα σκαμπό άλλων λησμονημένων πιάνων. Η δράση αποτελεί μέρος της μακροχρόνιας έρευνας του καλλιτέχνη πάνω στην υλικότητα των οργάνων και τη μνήμη που φέρουν τα σπίτια της πόλης\, μετατρέποντας την ατομική απώλεια σε μια κοινή\, λυτρωτική εμπειρία.\n\n 
URL:https://cityfestival.thisisathens.org/event/melachrinos-velentzas-rebirth-3/
LOCATION:Εθνικός Κήπος\, Βασ. Αμαλίας 1\, Αθήνα\, Αθήνα\, 105 57\, Greece
CATEGORIES:ΔΩΡΕΑΝ,ΣΥΝΑΥΛΙΑ,ΥΠΑΙΘΡΙΑ ΔΡΑΣΗ,ΨΥΧΑΓΩΓΙΑ
ATTACH;FMTTYPE=image/jpeg:https://cityfestival.thisisathens.org/wp-content/uploads/2026/04/rebirth-Μελαχρινός-Βελέντζας-This-Is-Athens-2026-03-rotated.jpg
END:VEVENT
BEGIN:VEVENT
DTSTART;TZID=Europe/Athens:20260523T100000
DTEND;TZID=Europe/Athens:20260523T200000
DTSTAMP:20260420T004501
CREATED:20260406T102045Z
LAST-MODIFIED:20260406T102045Z
UID:10005192-1779530400-1779566400@cityfestival.thisisathens.org
SUMMARY:Wellness Festival
DESCRIPTION:Η Νίκη Πετρουλάκη μάς προσκαλεί να αναζητήσουμε την ισορροπία σώματος και πνεύματος στον πιο πράσινο και γαλήνιο πυρήνα της πρωτεύουσας. Στο πλαίσιο του Φεστιβάλ\, ο Εθνικός Κήπος μετατρέπεται για δύο ημέρες σε έναν ανοιχτό χώρο ευεξίας\, προσφέροντας μια ολοκληρωμένη εμπειρία που μας αποσυνδέει από την ένταση της καθημερινότητας και μας επαναφέρει σε έναν πιο φυσικό\, ήρεμο ρυθμό. Μέσα στο καταπράσινο τοπίο του Κήπου\, η ευεξία αποκτά άλλη διάσταση: γίνεται παύση\, φροντίδα και επανασύνδεση.\n\nΜαζί με μια ομάδα έμπειρων συνεργατών\, η Νίκη Πετρουλάκη καθοδηγεί το κοινό σε ένα πρόγραμμα που συνδυάζει άσκηση\, εσωτερική ανάπτυξη\, ενημέρωση και χαλάρωση. Δυναμικές συνεδρίες\, εξειδικευμένα εργαστήρια\, χρήσιμες διατροφικές συμβουλές και επιλεγμένες μουσικές επιλογές δημιουργούν ένα περιβάλλον θετικής ενέργειας και ανανέωσης. Μια εμπειρία που μας προσκαλεί να βρούμε το κέντρο μας\, κυριολεκτικά και συμβολικά… στο κέντρο της πόλης.
URL:https://cityfestival.thisisathens.org/event/wellness-festival/2026-05-23/
LOCATION:Εθνικός Κήπος\, Βασ. Αμαλίας 1\, Αθήνα\, Αθήνα\, 105 57\, Greece
CATEGORIES:ΔΩΡΕΑΝ,ΥΠΑΙΘΡΙΑ ΔΡΑΣΗ
ATTACH;FMTTYPE=image/jpeg:https://cityfestival.thisisathens.org/wp-content/uploads/2026/03/DSC00685-1-scaled.jpg
END:VEVENT
BEGIN:VEVENT
DTSTART;TZID=Europe/Athens:20260523T110000
DTEND;TZID=Europe/Athens:20260523T123000
DTSTAMP:20260420T004501
CREATED:20260406T102803Z
LAST-MODIFIED:20260417T093804Z
UID:10004285-1779534000-1779539400@cityfestival.thisisathens.org
SUMMARY:Το Δώρο που δεν Ανοίχτηκε Ποτέ!
DESCRIPTION:Ένα μυστικό δέμα\, κρυμμένο ανάμεσα στα αιωνόβια δέντρα και τους θάμνους του Εθνικού Κήπου\, περιμένει τους μικρούς εξερευνητές για την πιο ανατρεπτική περιπέτεια του Φεστιβάλ του Δήμου Αθηναίων 2026.\n\nΣτο πλαίσιο του βιωματικού προγράμματος «Το δώρο που δεν ανοίχτηκε ποτέ!»\, το Ίδρυμα Εικαστικών Τεχνών και Μουσικής Β. & Μ. Θεοχαράκη προσκαλεί τα παιδιά να φορέσουν τα «επιστημονικά» τους γάντια και\, με οδηγό τη φαντασία και τον μεγεθυντικό φακό\, να αναζητήσουν τα ίχνη του εικαστικού Stephen Antonakos.\n\nΜέσα από ένα πρωτότυπο κυνήγι θησαυρού\, εμπνευσμένο από τις σειρές έργων «Travel Collages» και «Packages»\, οι συμμετέχοντες μυούνται στην εννοιολογική τέχνη μέσα από παιχνίδια ρόλων και ομαδικές αποστολές. Ανακαλύπτουν πώς ένα ταξίδι μπορεί να γίνει κολάζ και πώς ένα κλειστό δέμα μπορεί να κρύβει ολόκληρους κόσμους\, ενώ ταυτόχρονα δημιουργούν τα δικά τους έργα\, χρησιμοποιώντας φυσικά υλικά από το οικοσύστημα του Κήπου.\n\nΤο πρόγραμμα αποτελεί μια μοναδική ευκαιρία για τα παιδιά να συνεργαστούν\, να εξερευνήσουν τη σχέση τέχνης και περιβάλλοντος και να αναζητήσουν ένα «δώρο» που εδώ και 50 χρόνια περιμένει υπομονετικά να αποκαλύψει τα μυστικά του.\n\n\nΟι κρατήσεις ανοίγουν μία εβδομάδα πριν τη δράση\, στις 12:00 το μεσημέρι.
URL:https://cityfestival.thisisathens.org/event/doro-pou-den-anoichtike-pote/
LOCATION:Εθνικός Κήπος\, Βασ. Αμαλίας 1\, Αθήνα\, Αθήνα\, 105 57\, Greece
CATEGORIES:ΔΩΡΕΑΝ,ΕΡΓΑΣΤΗΡΙΑ,ΠΑΙΔΙ,ΥΠΑΙΘΡΙΑ ΔΡΑΣΗ
ATTACH;FMTTYPE=image/jpeg:https://cityfestival.thisisathens.org/wp-content/uploads/2026/03/Stephen-Antonakos-1926-2013-scaled.jpeg
END:VEVENT
BEGIN:VEVENT
DTSTART;TZID=Europe/Athens:20260524T100000
DTEND;TZID=Europe/Athens:20260524T200000
DTSTAMP:20260420T004501
CREATED:20260406T102045Z
LAST-MODIFIED:20260406T102045Z
UID:10005193-1779616800-1779652800@cityfestival.thisisathens.org
SUMMARY:Wellness Festival
DESCRIPTION:Η Νίκη Πετρουλάκη μάς προσκαλεί να αναζητήσουμε την ισορροπία σώματος και πνεύματος στον πιο πράσινο και γαλήνιο πυρήνα της πρωτεύουσας. Στο πλαίσιο του Φεστιβάλ\, ο Εθνικός Κήπος μετατρέπεται για δύο ημέρες σε έναν ανοιχτό χώρο ευεξίας\, προσφέροντας μια ολοκληρωμένη εμπειρία που μας αποσυνδέει από την ένταση της καθημερινότητας και μας επαναφέρει σε έναν πιο φυσικό\, ήρεμο ρυθμό. Μέσα στο καταπράσινο τοπίο του Κήπου\, η ευεξία αποκτά άλλη διάσταση: γίνεται παύση\, φροντίδα και επανασύνδεση.\n\nΜαζί με μια ομάδα έμπειρων συνεργατών\, η Νίκη Πετρουλάκη καθοδηγεί το κοινό σε ένα πρόγραμμα που συνδυάζει άσκηση\, εσωτερική ανάπτυξη\, ενημέρωση και χαλάρωση. Δυναμικές συνεδρίες\, εξειδικευμένα εργαστήρια\, χρήσιμες διατροφικές συμβουλές και επιλεγμένες μουσικές επιλογές δημιουργούν ένα περιβάλλον θετικής ενέργειας και ανανέωσης. Μια εμπειρία που μας προσκαλεί να βρούμε το κέντρο μας\, κυριολεκτικά και συμβολικά… στο κέντρο της πόλης.
URL:https://cityfestival.thisisathens.org/event/wellness-festival/2026-05-24/
LOCATION:Εθνικός Κήπος\, Βασ. Αμαλίας 1\, Αθήνα\, Αθήνα\, 105 57\, Greece
CATEGORIES:ΔΩΡΕΑΝ,ΥΠΑΙΘΡΙΑ ΔΡΑΣΗ
ATTACH;FMTTYPE=image/jpeg:https://cityfestival.thisisathens.org/wp-content/uploads/2026/03/DSC00685-1-scaled.jpg
END:VEVENT
BEGIN:VEVENT
DTSTART;TZID=Europe/Athens:20260529T060000
DTEND;TZID=Europe/Athens:20260529T233000
DTSTAMP:20260420T004501
CREATED:20260403T113108Z
LAST-MODIFIED:20260403T113716Z
UID:10005176-1780034400-1780097400@cityfestival.thisisathens.org
SUMMARY:Athens Photo World: Παγκόσμιο Κύπελλο Ποδοσφαίρου 1930 – 2026 από το Associated Press
DESCRIPTION:Το Athens Photo World μεταμορφώνει την περίμετρο του Εθνικού Κήπου σε μια εντυπωσιακή υπαίθρια γκαλερί αφιερωμένη στο ποδόσφαιρο. Η έκθεση παρουσιάζει 50 εμβληματικές φωτογραφίες από το αρχείο του Associated Press\, ταξιδεύοντας το κοινό από το πρώτο Μουντιάλ του 1930 έως τις σύγχρονες διοργανώσεις. Κατά μήκος των λεωφόρων Βασιλίσσης Σοφίας και Αμαλίας\, εικόνες υψηλής αισθητικής αποτυπώνουν τη συγκίνηση\, την ένταση και τις στιγμές που έγραψαν ιστορία. Μια ανοιχτή εμπειρία για όλους\, που φέρνει τον παλμό του παγκόσμιου αθλητισμού στην καρδιά της πόλης.
URL:https://cityfestival.thisisathens.org/event/athens-photo-world-pagkosmio-kypello-podosfairou-1930-2026/2026-05-29/
LOCATION:Εθνικός Κήπος\, Βασ. Αμαλίας 1\, Αθήνα\, Αθήνα\, 105 57\, Greece
CATEGORIES:ΑΘΛΗΤΙΣΜΟΣ,ΔΩΡΕΑΝ,ΕΚΘΕΣΗ,ΥΠΑΙΘΡΙΑ ΔΡΑΣΗ
ATTACH;FMTTYPE=image/jpeg:https://cityfestival.thisisathens.org/wp-content/uploads/2026/04/18-WCUP1970_18B_XLAT305.jpeg
END:VEVENT
BEGIN:VEVENT
DTSTART;TZID=Europe/Athens:20260530T060000
DTEND;TZID=Europe/Athens:20260530T233000
DTSTAMP:20260420T004501
CREATED:20260403T113108Z
LAST-MODIFIED:20260403T113716Z
UID:10005177-1780120800-1780183800@cityfestival.thisisathens.org
SUMMARY:Athens Photo World: Παγκόσμιο Κύπελλο Ποδοσφαίρου 1930 – 2026 από το Associated Press
DESCRIPTION:Το Athens Photo World μεταμορφώνει την περίμετρο του Εθνικού Κήπου σε μια εντυπωσιακή υπαίθρια γκαλερί αφιερωμένη στο ποδόσφαιρο. Η έκθεση παρουσιάζει 50 εμβληματικές φωτογραφίες από το αρχείο του Associated Press\, ταξιδεύοντας το κοινό από το πρώτο Μουντιάλ του 1930 έως τις σύγχρονες διοργανώσεις. Κατά μήκος των λεωφόρων Βασιλίσσης Σοφίας και Αμαλίας\, εικόνες υψηλής αισθητικής αποτυπώνουν τη συγκίνηση\, την ένταση και τις στιγμές που έγραψαν ιστορία. Μια ανοιχτή εμπειρία για όλους\, που φέρνει τον παλμό του παγκόσμιου αθλητισμού στην καρδιά της πόλης.
URL:https://cityfestival.thisisathens.org/event/athens-photo-world-pagkosmio-kypello-podosfairou-1930-2026/2026-05-30/
LOCATION:Εθνικός Κήπος\, Βασ. Αμαλίας 1\, Αθήνα\, Αθήνα\, 105 57\, Greece
CATEGORIES:ΑΘΛΗΤΙΣΜΟΣ,ΔΩΡΕΑΝ,ΕΚΘΕΣΗ,ΥΠΑΙΘΡΙΑ ΔΡΑΣΗ
ATTACH;FMTTYPE=image/jpeg:https://cityfestival.thisisathens.org/wp-content/uploads/2026/04/18-WCUP1970_18B_XLAT305.jpeg
END:VEVENT
BEGIN:VEVENT
DTSTART;TZID=Europe/Athens:20260531T060000
DTEND;TZID=Europe/Athens:20260531T233000
DTSTAMP:20260420T004501
CREATED:20260403T113108Z
LAST-MODIFIED:20260403T113716Z
UID:10005178-1780207200-1780270200@cityfestival.thisisathens.org
SUMMARY:Athens Photo World: Παγκόσμιο Κύπελλο Ποδοσφαίρου 1930 – 2026 από το Associated Press
DESCRIPTION:Το Athens Photo World μεταμορφώνει την περίμετρο του Εθνικού Κήπου σε μια εντυπωσιακή υπαίθρια γκαλερί αφιερωμένη στο ποδόσφαιρο. Η έκθεση παρουσιάζει 50 εμβληματικές φωτογραφίες από το αρχείο του Associated Press\, ταξιδεύοντας το κοινό από το πρώτο Μουντιάλ του 1930 έως τις σύγχρονες διοργανώσεις. Κατά μήκος των λεωφόρων Βασιλίσσης Σοφίας και Αμαλίας\, εικόνες υψηλής αισθητικής αποτυπώνουν τη συγκίνηση\, την ένταση και τις στιγμές που έγραψαν ιστορία. Μια ανοιχτή εμπειρία για όλους\, που φέρνει τον παλμό του παγκόσμιου αθλητισμού στην καρδιά της πόλης.
URL:https://cityfestival.thisisathens.org/event/athens-photo-world-pagkosmio-kypello-podosfairou-1930-2026/2026-05-31/
LOCATION:Εθνικός Κήπος\, Βασ. Αμαλίας 1\, Αθήνα\, Αθήνα\, 105 57\, Greece
CATEGORIES:ΑΘΛΗΤΙΣΜΟΣ,ΔΩΡΕΑΝ,ΕΚΘΕΣΗ,ΥΠΑΙΘΡΙΑ ΔΡΑΣΗ
ATTACH;FMTTYPE=image/jpeg:https://cityfestival.thisisathens.org/wp-content/uploads/2026/04/18-WCUP1970_18B_XLAT305.jpeg
END:VEVENT
END:VCALENDAR