BEGIN:VCALENDAR
VERSION:2.0
PRODID:-//Το Φεστιβάλ του Δήμου Αθηναίων - ECPv6.12.0.1//NONSGML v1.0//EN
CALSCALE:GREGORIAN
METHOD:PUBLISH
X-ORIGINAL-URL:https://cityfestival.thisisathens.org
X-WR-CALDESC:Events for Το Φεστιβάλ του Δήμου Αθηναίων
REFRESH-INTERVAL;VALUE=DURATION:PT1H
X-Robots-Tag:noindex
X-PUBLISHED-TTL:PT1H
BEGIN:VTIMEZONE
TZID:Europe/Athens
BEGIN:DAYLIGHT
TZOFFSETFROM:+0200
TZOFFSETTO:+0300
TZNAME:EEST
DTSTART:20250330T010000
END:DAYLIGHT
BEGIN:STANDARD
TZOFFSETFROM:+0300
TZOFFSETTO:+0200
TZNAME:EET
DTSTART:20251026T010000
END:STANDARD
END:VTIMEZONE
BEGIN:VEVENT
DTSTART;TZID=Europe/Athens:20250516T183000
DTEND;TZID=Europe/Athens:20250516T200000
DTSTAMP:20260419T231717
CREATED:20250328T131826Z
LAST-MODIFIED:20250422T100802Z
UID:10003246-1747420200-1747425600@cityfestival.thisisathens.org
SUMMARY:Η Ιστορία της Οικίας Κατακουζηνού Μέσα στον Χρόνο και ο Ρόλος Ενός Σπιτιού-Μουσείου στην Εποχή μας
DESCRIPTION:Μια ομιλία για το φιλολογικό σαλόνι των Κατακουζηνών του 1960\, με αναφορά στην ιστορία\, στο έργο και στην προσφορά του ζεύγους Κατακουζηνού. Θα μάθουμε πώς η οικία Κατακουζηνού μετατράπηκε σε μουσείο το 2008 και τι μπορεί να προσφέρει σε μια εποχή που όλα αλλάζουν συνεχώς.\n\nΟμιλητής: Σοφία Ε. Πελοποννησίου-Βασιλάκου\, μουσειολόγος\, επιμελήτρια της οικίας Κατακουζηνού.\n\nΑπαιτείται η κράτηση θέσης. Οι κρατήσεις ανοίγουν 9/5\, στις 12:00 το μεσημέρι.
URL:https://cityfestival.thisisathens.org/event/oikia-katakouzinou/
LOCATION:Ίδρυμα Αγγελου & Λητώς Κατακουζηνού\, Βασιλίσσης Αμαλίας 4\, Αθήνα\, Αθήνα\, 105 57\, Greece
CATEGORIES:ΔΩΡΕΑΝ,ΙΣΤΟΡΙΑ,ΜΟΥΣΕΙΟ
ATTACH;FMTTYPE=image/jpeg:https://cityfestival.thisisathens.org/wp-content/uploads/2025/03/OWN-Museums-KatakouzenosMuseum1.jpg
END:VEVENT
BEGIN:VEVENT
DTSTART;TZID=Europe/Athens:20250515T183000
DTEND;TZID=Europe/Athens:20250515T200000
DTSTAMP:20260419T231717
CREATED:20250509T205831Z
LAST-MODIFIED:20250509T210505Z
UID:10003939-1747333800-1747339200@cityfestival.thisisathens.org
SUMMARY:Η Ιστορία της Οικίας Κατακουζηνού Μέσα στον Χρόνο και ο Ρόλος Ενός Σπιτιού-Μουσείου στην Εποχή μας
DESCRIPTION:Μια ομιλία για το φιλολογικό σαλόνι των Κατακουζηνών του 1960\, με αναφορά στην ιστορία\, στο έργο και στην προσφορά του ζεύγους Κατακουζηνού. Θα μάθουμε πώς η οικία Κατακουζηνού μετατράπηκε σε μουσείο το 2008 και τι μπορεί να προσφέρει σε μια εποχή που όλα αλλάζουν συνεχώς.\n\nΟμιλητής: Σοφία Ε. Πελοποννησίου-Βασιλάκου\, μουσειολόγος\, επιμελήτρια της οικίας Κατακουζηνού.\n\nΑπαιτείται η κράτηση θέσης. Οι κρατήσεις ανοίγουν 10/5\, στις 12:00 το μεσημέρι.
URL:https://cityfestival.thisisathens.org/event/katakouzinou/
LOCATION:Ίδρυμα Αγγελου & Λητώς Κατακουζηνού\, Βασιλίσσης Αμαλίας 4\, Αθήνα\, Αθήνα\, 105 57\, Greece
CATEGORIES:ΔΩΡΕΑΝ,ΙΣΤΟΡΙΑ,ΜΟΥΣΕΙΟ
ATTACH;FMTTYPE=image/jpeg:https://cityfestival.thisisathens.org/wp-content/uploads/2025/05/Salon-1.jpg
END:VEVENT
END:VCALENDAR